BEGIN:VCALENDAR
VERSION:2.0
PRODID:-//MOVERS - ECPv6.15.20//NONSGML v1.0//EN
CALSCALE:GREGORIAN
METHOD:PUBLISH
X-WR-CALNAME:MOVERS
X-ORIGINAL-URL:https://movers.mo.gov
X-WR-CALDESC:Events for MOVERS
REFRESH-INTERVAL;VALUE=DURATION:PT1H
X-Robots-Tag:noindex
X-PUBLISHED-TTL:PT1H
BEGIN:VTIMEZONE
TZID:America/Chicago
BEGIN:DAYLIGHT
TZOFFSETFROM:-0600
TZOFFSETTO:-0500
TZNAME:CDT
DTSTART:20220313T080000
END:DAYLIGHT
BEGIN:STANDARD
TZOFFSETFROM:-0500
TZOFFSETTO:-0600
TZNAME:CST
DTSTART:20221106T070000
END:STANDARD
BEGIN:DAYLIGHT
TZOFFSETFROM:-0600
TZOFFSETTO:-0500
TZNAME:CDT
DTSTART:20230312T080000
END:DAYLIGHT
BEGIN:STANDARD
TZOFFSETFROM:-0500
TZOFFSETTO:-0600
TZNAME:CST
DTSTART:20231105T070000
END:STANDARD
BEGIN:DAYLIGHT
TZOFFSETFROM:-0600
TZOFFSETTO:-0500
TZNAME:CDT
DTSTART:20240310T080000
END:DAYLIGHT
BEGIN:STANDARD
TZOFFSETFROM:-0500
TZOFFSETTO:-0600
TZNAME:CST
DTSTART:20241103T070000
END:STANDARD
END:VTIMEZONE
BEGIN:VEVENT
DTSTART;TZID=America/Chicago:20230118T090000
DTEND;TZID=America/Chicago:20230118T120000
DTSTAMP:20260424T204131
CREATED:20221227T173751Z
LAST-MODIFIED:20221227T173751Z
UID:834-1674032400-1674043200@movers.mo.gov
SUMMARY:Fixed Assets Requirement Session 3
DESCRIPTION:
URL:https://movers.mo.gov/calendar/fixed-assets-requirement-session-3/
LOCATION:OA MoTec #3\, 1738 E. Elm Street\, Jefferson City\, Missouri
END:VEVENT
BEGIN:VEVENT
DTSTART;TZID=America/Chicago:20230118T130000
DTEND;TZID=America/Chicago:20230118T160000
DTSTAMP:20260424T204131
CREATED:20221227T173831Z
LAST-MODIFIED:20221227T173831Z
UID:836-1674046800-1674057600@movers.mo.gov
SUMMARY:Fixed Assets E2E Session 1
DESCRIPTION:
URL:https://movers.mo.gov/calendar/fixed-assets-e2e-session-1/
LOCATION:OA MoTec #3\, 1738 E. Elm Street\, Jefferson City\, Missouri
END:VEVENT
END:VCALENDAR